BEGIN:VCALENDAR
VERSION:2.0
PRODID:-//Over Parish Council//Meeting Calendar//EN
CALSCALE:GREGORIAN
METHOD:PUBLISH
BEGIN:VEVENT
UID:70742-20170912@over-pc.gov.uk
DTSTAMP:20260422T104025Z
DTSTART;VALUE=DATE:20170912
DTEND;VALUE=DATE:20170913
SUMMARY:September Meeting
DESCRIPTION:Full Council Meeting\nView details: https://over-pc.gov.uk/meetings/september-meeting-2/
URL:https://over-pc.gov.uk/meetings/september-meeting-2/
END:VEVENT
END:VCALENDAR
