BEGIN:VCALENDAR
VERSION:2.0
PRODID:-//Over Parish Council//Meeting Calendar//EN
CALSCALE:GREGORIAN
METHOD:PUBLISH
BEGIN:VEVENT
UID:70746-20171010@over-pc.gov.uk
DTSTAMP:20260422T121332Z
DTSTART;VALUE=DATE:20171010
DTEND;VALUE=DATE:20171011
SUMMARY:October Meeting
DESCRIPTION:Full Council Meeting\nView details: https://over-pc.gov.uk/meetings/october-meeting-2/
URL:https://over-pc.gov.uk/meetings/october-meeting-2/
END:VEVENT
END:VCALENDAR
