BEGIN:VCALENDAR
VERSION:2.0
PRODID:-//Over Parish Council//Meeting Calendar//EN
CALSCALE:GREGORIAN
METHOD:PUBLISH
BEGIN:VEVENT
UID:70751-20171212@over-pc.gov.uk
DTSTAMP:20260422T121023Z
DTSTART;VALUE=DATE:20171212
DTEND;VALUE=DATE:20171213
SUMMARY:December Meeting
DESCRIPTION:Full Council Meeting\nView details: https://over-pc.gov.uk/meetings/december-meeting/
URL:https://over-pc.gov.uk/meetings/december-meeting/
END:VEVENT
END:VCALENDAR
