BEGIN:VCALENDAR
VERSION:2.0
PRODID:-//Over Parish Council//Meeting Calendar//EN
CALSCALE:GREGORIAN
METHOD:PUBLISH
BEGIN:VEVENT
UID:70770-20160510@over-pc.gov.uk
DTSTAMP:20260422T085002Z
DTSTART;VALUE=DATE:20160510
DTEND;VALUE=DATE:20160511
SUMMARY:May Meeting
DESCRIPTION:Full Council Meeting\nView details: https://over-pc.gov.uk/meetings/may-meeting-3/
URL:https://over-pc.gov.uk/meetings/may-meeting-3/
END:VEVENT
END:VCALENDAR
