BEGIN:VCALENDAR
VERSION:2.0
PRODID:-//Over Parish Council//Meeting Calendar//EN
CALSCALE:GREGORIAN
METHOD:PUBLISH
BEGIN:VEVENT
UID:70793-20160421@over-pc.gov.uk
DTSTAMP:20260421T084447Z
DTSTART;VALUE=DATE:20160421
DTEND;VALUE=DATE:20160422
SUMMARY:Annual Parish Meeting
DESCRIPTION:Full Council Meeting\nView details: https://over-pc.gov.uk/meetings/annual-parish-meeting-4/
URL:https://over-pc.gov.uk/meetings/annual-parish-meeting-4/
END:VEVENT
END:VCALENDAR
