BEGIN:VCALENDAR
VERSION:2.0
PRODID:-//Over Parish Council//Meeting Calendar//EN
CALSCALE:GREGORIAN
METHOD:PUBLISH
BEGIN:VEVENT
UID:70863-20140708@over-pc.gov.uk
DTSTAMP:20260422T084954Z
DTSTART;VALUE=DATE:20140708
DTEND;VALUE=DATE:20140709
SUMMARY:July Meeting
DESCRIPTION:Full Council Meeting\nView details: https://over-pc.gov.uk/meetings/july-meeting-5/
URL:https://over-pc.gov.uk/meetings/july-meeting-5/
END:VEVENT
END:VCALENDAR
