BEGIN:VCALENDAR
VERSION:2.0
PRODID:-//Over Parish Council//Meeting Calendar//EN
CALSCALE:GREGORIAN
METHOD:PUBLISH
BEGIN:VEVENT
UID:70866-20140909@over-pc.gov.uk
DTSTAMP:20260422T103929Z
DTSTART;VALUE=DATE:20140909
DTEND;VALUE=DATE:20140910
SUMMARY:September Meeting
DESCRIPTION:Full Council Meeting\nView details: https://over-pc.gov.uk/meetings/september-meeting-5/
URL:https://over-pc.gov.uk/meetings/september-meeting-5/
END:VEVENT
END:VCALENDAR
