Workbook

Sheet Expenditure 2026-2027
A1: 1
B2: Over Parish Council | D2: April 2026-March 2027
B3: EXPENDITURE
A4: Date | B4: Payee | C4: Details | D4: Payment | E4: Paid | F4: BANK | G4: Creditors 2023/2024 | H4: VAT | I4: Salaries & Employers Oncosts | J4: Officers Training & Travel | K4: Stationary / Admin Expenses / Cleaning Products | L4: PC meeting exp | M4: Insurance | N4: Grants / Donations | O4: Memberships/ Internal/ External Audit / Elections | P4: Grass Cutting Services / Tree Works/ Water Charge | Q4: Street Lighting & Maintenance/ Heating | R4: Village Maintenance | S4: Pavillion | T4: Play Areas | U4: Overcote, Gravel | V4: CCTV | W4: Website | X4: Santa Trip / Christmas Lights / Remembrance Parade / Fireworks | Y4: Skatepark Project | Z4: Green Contract | AA4: OCA Project | AB4: S106 | AC4: Defibs | AD4: Ponds
F6: £ | H6: £ | I6: £ | J6: £ | K6: £ | O6: £ | P6: £ | Q6: £ | R6: £ | S6: £ | T6: £ | U6: £ | V6: £ | W6: £ | X6: £ | Y6: £ | Z6: £ | AA6: £ | AB6: £ | AC6: £ | AD6: £
A7: April | B7: Clerk’s Salary | C7: Payroll | D7: 1389.27 | E7: # | F7: 1389.27 | I7: 1389.27
A8: April | B8: Clerk’s | C8: Working from home allowance | D8: 25 | E8: # | F8: 25 | I8: 25
A9: April | B9: HMRC | C9: PAYE and NI | D9: 125.7 | E9: # | F9: 125.7 | I9: 125.7
A10: April | B10: HMRC | C10: Employer NI | D10: 168.72 | E10: # | F10: 168.72 | I10: 168.72
A11: April | B11: NEST Pension | C11: Employee contribution | D11: 61.67 | E11: # | F11: 61.67 | I11: 61.67
A12: April | B12: NEST Pension | C12: Employer Contribution | D12: 46.25 | E12: # | F12: 46.25 | I12: 46.25
A13: April | B13: Microsoft | C13: Monthly Charge | D13: 52.16 | E13: # | F13: 52.16 | H13: 8.69 | K13: 43.47
A14: April | B14: Microsoft | C14: Monthly Charge | D14: 10.21 | E14: # | F14: 10.21 | H14: 1.7 | K14: 8.51
A15: April | B15: SCDC | C15: Monthly collection charge | D15: 243.75 | E15: # | F15: 243.75 | R15: 243.75
A16: April | B16: Over Enterprise | C16: Hire of Seminar Room | D16: 52.2 | E16: # | F16: 52.2 | H16: 8.7 | L16: 43.5
A17: April | B17: Advance Security Ltd | C17: Annual CCTV service/maintenance | D17: 300 | E17: # | F17: 300 | H17: 50 | V17: 250
A18: April | B18: MC Groundcare | C18: Supply & fit height barrier, grass cutting | D18: 3594 | E18: # | F18: 3594 | H18: 599 | U18: 2995
A19: April | B19: British Gas | C19: Electricity charges - Pavilion | D19: 190.07 | E19: # | F19: 190.07 | H19: 9.05 | S19: 181.02
A20: April | B20: Npower | C20: Electricity charges - The Doles | D20: 57.81 | E20: # | F20: 57.81 | H20: 2.75 | Q20: 55.06
A21: April | B21: Pennon Water | C21: Water charges | D21: 48.03 | E21: # | F21: 48.03 | P21: 48.03
A22: April | B22: David Bridgman | C22: March Maintenance | D22: 170 | E22: # | F22: 170 | P22: 170 | R22: 85
A23: April | B23: David Bridgman | C23: March Cleaning | D23: 85 | E23: # | F23: 85
A24: April | B24: MC Groundcare | C24: Grass Cutting at the green | D24: 204 | E24: # | F24: 204 | Z24: 204
A25: April | B25: MC Groundcare | C25: Grass Cutting at the green | D25: 408 | E25: # | F25: 408 | Z25: 408
A26: April | B26: Lloyds | C26: Service charges | D26: 4.25 | E26: # | F26: 4.25 | K26: 4.25
A27: April | B27: FOPS Donation | C27: Donation for play equipment | D27: 10000 | E27: # | F27: 10000 | N27: 10000
A28: May | B28: Clerk’s Salary | C28: Payroll | D28: 1389.27 | E28: # | F28: 1389.27 | I28: 1389.27
A29: May | B29: Clerk’s | C29: Working from home allowance | D29: 25 | E29: # | F29: 25 | I29: 25
A30: May | B30: HMRC | C30: PAYE and NI | D30: 125.7 | E30: # | F30: 125.7 | I30: 125.7
A31: May | B31: HMRC | C31: Employer NI | D31: 168.72 | E31: # | F31: 168.72 | I31: 168.72
A32: May | B32: NEST Pension | C32: Employee contribution | D32: 61.67 | E32: # | F32: 61.67 | I32: 61.67
A33: May | B33: NEST Pension | C33: Employer Contribution | D33: 46.25 | E33: # | F33: 46.25 | I33: 46.25
A34: May | B34: Microsoft | C34: Monthly Charge | D34: 52.16 | E34: # | F34: 52.16 | H34: 8.69 | K34: 43.47
A35: May | B35: Microsoft | C35: Monthly Charge | D35: 10.21 | E35: # | F35: 10.21 | H35: 1.7 | K35: 8.51
A36: May | B36: SCDC | C36: Monthly collection charge | D36: 243.75 | E36: # | F36: 243.75 | P36: 243.75
A37: May | B37: Over Enterprise | C37: Hire of Seminar Room | D37: 36 | E37: # | F37: 36 | H37: 6 | L37: 30
A38: May | B38: Viking | C38: Printer Ink | D38: 75.53 | E38: # | F38: 75.53 | H38: 12.59 | K38: 62.94
A39: May | B39: MC Groundcare | C39: Grass cutting/Bins Overcote | D39: 666 | E39: # | F39: 666 | H39: 111 | U39: 555
A40: May | B40: CAPALC | C40: Membership Fee | D40: 830.44 | E40: # | F40: 830.44 | O40: 830.44
A41: May | B41: David Bridgman | C41: Cleaning | D41: 85 | E41: # | F41: 85 | R41: 85
...

Sheet Income 2026-2027
B1: Over Parish Council | C1: 553.46
B3: INCOME
A4: Date | B4: Details | D4: BANK | E4: Debtors 2024/2025 | F4: Precept | G4: VAT | H4: Grass Cutting Grant / Maintenance | I4: Lloyds Bank Interest | J4: Saffron B/S Interest | K4: Sports Pavilion | L4: OCA Rent | M4: S106 | N4: Grant | O4: Wayleaves | P4: Green Contract | Q4: Salary | R4: Christmas
D6: £ | F6: £ | G6: £ | H6: £ | I6: £ | J6: £ | K6: £ | M6: £ | O6: £ | P6: £ | Q6: £ | R6: £
A9: 46121 | B9: Lloyds | C9: # | D9: 24.28 | I9: 24.28
A10: 46133 | B10: Precept South Cambs | C10: # | D10: 56250 | F10: 56250
A11: 46136 | B11: Youth Football | C11: # | D11: 70 | K11: 70
A12: 46142 | B12: Saffron Building Society | C12: # | D12: 876.21 | J12: 876.21
A13: 46148 | B13: Youth Football | C13: # | D13: 95 | K13: 95
A14: 46153 | B14: Lloyds | C14: # | D14: 25.07 | I14: 25.07
A15: 46173 | B15: Saffron Building Society | C15: # | D15: 908.05 | J15: 908.05
A16: 46182 | B16: Lloyds | C16: # | D16: 22.73 | I16: 22.73
A17: 46189 | B17: HMRC | C17: # | D17: 960.53 | G17: 960.53
A18: 46191 | B18: Youth Football | C18: # | D18: 80 | K18: 80
A19: 46203 | B19: Saffron Building Society | C19: # | D19: 881.4 | J19: 881.4
A20: 46212 | B20: Lloyds | C20: # | D20: 23.52 | I20: 23.52
A21: 46216 | B21: OCA Rent | C21: # | D21: 20 | L21: 20
A22: 46234 | B22: Saffron Building Society | C22: # | D22: 913.43 | J22: 913.43
A23: 46244 | B23: Lloyds | C23: # | D23: 25.1 | I23: 25.1
A24: 46265 | B24: Saffron Building Society | C24: # | D24: 916.18 | J24: 916.18
A25: 46274 | B25: Lloyds | C25: # | D25: 23.54 | I25: 23.54
A26: 46290 | B26: Precept South Cambs | C26: # | D26: 56250 | F26: 56250
A27: 46290 | B27: Over Cricket Club | C27: # | D27: 450 | K27: 450
B57: =SUM(E57:R57) -> 118815.04 | D57: =SUM(D8:D55) -> 118815.04 | E57: =SUM(E13:E55) -> 0 | F57: =SUM(F9:F55) -> 112500 | G57: =SUM(G9:G55) -> 960.53 | H57: =SUM(H13:H55) -> 0 | I57: =SUM(I8:I55) -> 144.24 | J57: =SUM(J8:J55) -> 4495.27 | K57: =SUM(K11:K55) -> 695 | L57: =SUM(L13:L55) -> 20 | M57: =SUM(M13:M55) -> 0 | N57: =SUM(N13:N55) -> 0 | O57: =SUM(O13:O55) -> 0 | P57: =SUM(P13:P55) -> 0 | Q57: =SUM(Q8:Q54) -> 0 | R57: =SUM(R8:R55) -> 0

Sheet Budget Control
A1: Over Parish Council
A4: Actual | D4: BUDGET | E4: Budget | F4: Budget | G4: Actual | H4: Predict Spend | I4: Budget 2027-2028 | J4: Notes
E5: Left | F5: Proportion | G5: to date
A6: 31st March 26 | D6: 2026-2027 | E6: 2026-2027 | F6: to date
A7: £ | B7: EXPENDITURE | D7: £ | F7: £ | G7: £ | H7: £
B8: Employees
C9: Salaries & Employers Oncosts | D9: 23000 | E9: =(D9-G9) -> 12611.43 | F9: =SUM(D9/12*12) -> 23000 | G9: =('Expenditure 2026-2027'!I247) -> 10388.57 | I9: 24000
C11: Training
A12: 855 | C12: Clerk | D12: 400 | E12: =D12-G12 -> 400 | F12: =SUM(D12/12*12) -> 400 | G12: =('Expenditure 2026-2027'!J247) -> 0 | I12: 0
C13: Councillor | D13: 400 | E13: =D13-G13 -> 400 | F13: =SUM(D13/12*12) -> 400 | I13: 400
B15: General Admin Costs
A16: 1128.97 | C16: Stationery / Admin Costs | D16: 1000 | E16: =(D16-G16) -> 569.84 | F16: =SUM(D16/12*12) -> 1000 | G16: =('Expenditure 2026-2027'!K247) -> 430.16 | I16: 800
A17: 3608.93 | C17: Insurance | D17: 4100 | E17: =(D17-G17) -> 4100 | F17: =SUM(D17/12*12) -> 4100 | G17: =('Expenditure 2026-2027'!M247) -> 0 | I17: 4500
C18: Legal | E18: =(D18-G18) -> 0 | F18: =SUM(D18/12*12) -> 0
A19: 485.1 | C19: PC Meeting Expenses | D19: 700 | E19: =(D19-G19) -> 536.5 | F19: =SUM(D19/12*12) -> 700 | G19: =('Expenditure 2026-2027'!L247) -> 163.5 | I19: 600
A20: 290 | C20: Website Costs | D20: 624 | E20: =(D20-G20) -> 624 | F20: =SUM(D20/12*12) -> 624 | G20: =('Expenditure 2026-2027'!W247) -> 0 | I20: 624
A21: 1829.62 | C21: Memberships / Audit Fees | D21: 1800 | E21: =(D21-G21) -> 457.56 | F21: =SUM(D21/12*12) -> 1800 | G21: =('Expenditure 2026-2027'!O247) -> 1342.44 | I21: 1800
B23: Village & Asset Maintenance
A24: 1450.31 | C24: Repairs - Pavilion | E24: =(D24-G24) -> -2483.9 | F24: =SUM(D24/12*12) -> 0 | G24: =('Expenditure 2026-2027'!S247) -> 2483.9
A25: 11544.7 | C25: Litter & Village Maintenance | D25: 10500 | E25: =(D25-G25) -> 5435.52 | F25: =SUM(D25/12*12) -> 10500 | G25: =('Expenditure 2026-2027'!R247) -> 5064.48 | I25: 10500
A26: 8574.92 | C26: Grass Cutting | D26: 9900 | E26: =(D26-G26) -> 8272.12 | F26: =SUM(D26/12*12) -> 9900 | G26: =('Expenditure 2026-2027'!P247) -> 1627.88
A27: 455 | C27: Play Equipment / Repairs / Benches | D27: 5000 | E27: =(D27-G27) -> 4676 | F27: =SUM(D27/12*12) -> 5000 | G27: =('Expenditure 2026-2027'!T247) -> 324
A28: 6467 | C28: Overcote | D28: 7000 | E28: =(D28-G28) -> -52.5 | F28: =SUM(D28/12*12) -> 7000 | G28: =('Expenditure 2026-2027'!U247) -> 7052.5 | I28: 7250
C29: Ponds | D29: 2500 | E29: =(D29-G29) -> 140 | F29: =SUM(D29/12*12) -> 2500 | G29: =('Expenditure 2026-2027'!AD247) -> 2360
A30: 380 | C30: CCTV | D30: 500 | E30: =(D30-G30) -> 250 | F30: =SUM(D30/12*12) -> 500 | G30: =('Expenditure 2026-2027'!V247) -> 250 | I30: 500
A31: 0 | C31: Defib | D31: 250 | E31: =(D31-G31) -> 250 | F31: =SUM(D31/12*12) -> 250 | G31: =('Expenditure 2026-2027'!AC247) -> 0 | I31: 250
A32: 0 | C32: Bins / Benches / Village Green Bench | D32: 2000 | E32: =(D32-G32) -> 2000 | F32: =SUM(D32/12*12) -> 2000 | I32: 1000
A33: 0 | C33: Giffords Way | D33: 450 | E33: =(D33-G33) -> 450 | F33: =SUM(D33/12*12) -> 450
A34: 639.2 | C34: Street Lighting | D34: 1000 | E34: =(D34-G34) -> 917.64 | F34: =SUM(D34/12*12) -> 1000 | G34: =('Expenditure 2026-2027'!Q247) -> 82.36
C35: Other
B37: Special Projects
A38: 30622.82 | C38: OCA Project | D38: 10000 | E38: 0 | F38: =SUM(D38/12*12) -> 10000 | G38: =('Expenditure 2026-2027'!AA247) -> 0
A39: 2088 | C39: Green Contract | D39: 5000 | E39: =(D39-G39) -> 3440 | F39: =SUM(D39/12*12) -> 5000 | G39: =('Expenditure 2026-2027'!Z247) -> 1560
A40: 0 | C40: Santa Trip | D40: 130 | E40: =(D40-G40) -> -378.29 | F40: =SUM(D40/12*12) -> 130 | G40: =('Expenditure 2026-2027'!X247) -> 508.29
A41: 2620.95 | C41: Christmas Lights | D41: 500 | E41: =(D41-G41) -> 500 | F41: =SUM(D41/12*12) -> 500
C42: British Legion Events | D42: 1400 | E42: =(D42-G42) -> 1400 | F42: =SUM(D42/12*12) -> 1400
A43: 1500 | C43: Fireworks | D43: 1600 | E43: =(D43-G43) -> 1600 | F43: =SUM(D43/12*12) -> 1600
A44: 0 | C44: Carnival | D44: 500 | F44: =SUM(D44/12*12) -> 500 | G44: 1000 | I44: 500
A45: 65869.82 | C45: Skate Park | D45: 5000 | E45: =(D45-G45) -> 5000 | F45: =SUM(D45/12*12) -> 5000 | G45: =('Expenditure 2026-2027'!Y247) -> 0 | I45: 5000
B46: Grants to Voluntary Orgainsations
...

Sheet Ear Marked Reserves
A1: Section 106
A3: Received | B3: Amount | C3: For
A4: 07.07.2022 | B4: 93266.64 | C4: Longstanton Road
D5: 14811.67 | E5: OCA - Resurfacing of car park, Foyer Upgrade or Air Conditioning)
D6: 32624.81 | E6: Play Area - Village Green
D7: 45830.16 | E7: Play Area on the Green / Skatepark/ Play Area Community Centre
A9: 25.04.2023 | B9: 75302.18 | C9: Fen End
D10: 11679.96 | E10: OCA - Resurfacing of car park, Foyer Upgrade or Air Conditioning)
D11: 25726.76 | E11: Pavilion on Green - Upgrade changing Facalities
D12: 35513.84 | E12: Skate Park and or Play Area at The Doles.
D13: 2381.62 | E13: Overcote Project
A15: 25.04.2023 | B15: 110147.58 | C15: Mill Road
D16: 75754.79 | E16: Improve Willingham Road Sports Pavilion / and or improve skate park
D17: =D16-F37 -> 30813.56 | E17: (£33,852.80 spent on Pavilion Heating, Re-roofing, loft hatch, guttering)
D18: 34392.79 | E18: OCA - Resurfacing of car park, Foyer Upgrade or Air Conditioning)
A20: 06.10.2025 | B20: 202355.75 | C20: New Road | D20: 77359.59 | E20: Off site childrens play space
D21: 77359.59 | E21: Off site sport space
D22: 25203.4 | E22: Off site community facilities
D23: 4722.77 | E23: Green infrastructure
D24: 17710.4 | E24: Off site recreation
A26: 31.10.2025 | B26: 18195.72 | D26: 18195.72 | E26: Mill Road bus shelter maintenance
A28: Total | B28: =SUM(B4:B23) -> 481072.15
A31: Name | B31: Reserve Amount | E31: S106 Money Spent | I31: S106 Allocations
A32: Land Price Reserve | B32: 1435.93 | E32: Date | F32: Total | G32: S106 | J32: Total | K32: Spent | L32: Total Left
A33: Village Recreation Ground | B33: 1242.86 | E33: 11.05.2021 Hot water & Heating (Pavilion) K Unwin | F33: 19987.2 | G33: Mill Road | I33: OCA - Carpark, Foyer, Toilets | J33: =D18+D10+D5 -> 60884.42 | K33: =55465+5419.42 -> 60884.42 | L33: =J33-K33 -> 0
A34: Tree Works @ the Green | B34: 65 | E34: 13.11.2018 Re-roofing the Pavilion MT Roofing | F34: 13215.6 | G34: Mill Road | I34: Play Area Vilage Green | J34: =D6 -> 32624.81 | K34: 32624.81 | L34: =J34-K34 -> 0
A35: Play Equipment Fund | B35: 6532.88 | E35: 14.04.2020 Loft hatch in Pavilion AJ Wookey | F35: £450.00 | G35: Mill Road | I35: Play Area The Doles / Skate Park / Village Green | J35: =D12+D7 -> 81344 | K35: 86764.87 | L35: -5420.87
A36: Public Open Space - Sandpit Pond | B36: 10080.84 | E36: 10.11.2020 Re-working loft hatch AJ Wookey | F36: 650 | G36: Mill Road | I36: Changing Facalities Pavilion | J36: =D11 -> 25726.76 | K36: 25726.76 | L36: =J36-K36 -> 0
A37: Public Open Space - Giffords Way | B37: 13492 | E37: 01.03.2024 Green play area Eibe | F37: 44941.23 | G37: Longstan | I37: Overcote | J37: =D13 -> 2381.62 | L37: =J37-K37 -> 2381.62
A38: Election Costs | B38: 2500 | E38: 10.04.2024 Green Play Area Eibe | F38: 38156 | G38: Longstan | I38: Skate Park | J38: =D17 -> 30813.56 | K38: =F39+F41+F43 -> 30813.56 | L38: =J38-K38 -> 0
A39: Legal Fees | B39: 3600 | E39: 19.09.2024 Skate Park FCC Grant | F39: 10750 | G39: Fen End | I39: Off site childrens play space | J39: 77359.359 | L39: =J39-K39 -> 77359.359
A40: Mobile Warden | B40: 2500 | E40: 09.10.2024 Tarmacking OCA | F40: 55465 | I40: Off site sport space | J40: 77359.36 | L40: =J40-K40 -> 77359.36
A41: OCA joint projects | B41: 0 | E41: 04.12.2024 Skate Park Survey Betong | F41: 6046.85 | I41: Off site community facilities | J41: 25203.4 | K41: 25203.4 | L41: =J41-K41 -> 0
A42: Equipment Replacement Fund | B42: 241 | E42: 10.01.2025 Community Play Area Eibe | F42: 36292.45 | I42: Green infrastructure | J42: 4722.77 | L42: =J42-K42 -> 4722.77
A43: Pavilion Works | B43: =F37 -> 44941.23 | E43: 28.04.2025 Skate Park Betong | F43: 14016.71 | I43: Off site recreation | J43: 17710.4 | L43: =J43-K43 -> 17710.4
E44: 09.12.2025 OCA Air Con OCA | F44: 25203.4 | G44: New Road | I44: Mill Road bus shelter maintenance | J44: 18195.72 | L44: =J44-K44 -> 18195.72
D47: Lloyds Bank | J47: =SUM(J33:J46) -> 454326.18 | K47: =SUM(K33:K46) -> 262017.82 | L47: =SUM(L33:L46) -> 192308.36
A48: Total | B48: =SUM(B32:B47) -> 86631.74 | D48: 53594.48 | E48: Total | F48: =SUM(F33:F47) -> 264724.44
D49: 357094.64
A50: Date | B50: 46069 | D50: =SUM(D48:D49) -> 410689.12 | E50: Green Contract
...

Sheet VAT
A1: Over Parish Council : DETAILS OF VAT INVOICES
A3: Date | B3: PAYEE | C3: Invoice Number | D3: VAT REG | E3: Description | F3: To | G3: VAT
A4: 46023 | B4: N Power | C4: IN14677332 | D4: 559097889 | E4: Electricity | F4: Over PC | G4: 3.09
A5: 46023 | B5: Over Community Enterprises | C5: 9975 | D5: 665627896 | E5: Meeting Room Hire | F5: Over PC | G5: 8.7
A6: 46023 | B6: Parish Online | C6: 12UG076-0001 | D6: 450954778 | E6: Website | F6: Over PC | G6: 58
A7: 46023 | B7: Microsoft | C7: G132803047 | D7: 724594615 | E7: Subscription | F7: Over PC | G7: 8.28
A8: 46023 | B8: Microsoft | C8: G134938469 | D8: 724594615 | E8: Subscription | F8: Over PC | G8: 1.7
A9: 46054 | B9: Microsoft | C9: G138538710 | D9: 724594615 | E9: Subscription | F9: Over PC | G9: 8.69
A10: 46023 | B10: British Gas | C10: 13538677 | D10: 684966762 | E10: Electricity | F10: Over PC | G10: 9.4
A11: 46040 | B11: Krystal Hosting | C11: 2389573 | D11: 884982260 | E11: Domain Renewal | F11: Over PC | G11: 3.2
A12: 46064 | B12: Microsoft | C12: G14014369 | D12: 724994615 | E12: Subscription | F12: Over PC | G12: 1.7
A13: 46054 | B13: Over Community Enterprises | C13: 10025 | D13: 665627896 | E13: Meeting Room Hire | F13: Over PC | G13: 8.7
A14: 46061 | B14: British Gas | C14: 13841726 | D14: 684966762 | E14: Electriciy Charges | F14: Over PC | G14: 10.1
A15: 46089 | B15: British Gas | C15: 14156815 | D15: 684966762 | E15: Electricity Charges | F15: Over PC | G15: 8.71
A16: 46086 | B16: Microsoft | C16: G144343067 | D16: 7245914615 | E16: Subscription | F16: Over PC | G16: 8.69
A17: 46092 | B17: Microsoft | C17: G146408963 | D17: 7245914615 | E17: Subscription | F17: Over PC | G17: 1.7
A18: 46092 | B18: Viking Office UK Ltd | C18: 4410512305 | D18: 536153357 | E18: Printer Ink | F18: Over PC | G18: 12.59
A19: 46112 | B19: Over Community Centre | C19: 10063 | D19: 665627896 | E19: Meeting Room Hire | F19: Over PC | G19: 8.7
A20: 46113 | B20: Advance Security Ltd | C20: 136394 | D20: 720391756 | E20: CCTV Annual Service | F20: Over PC | G20: 50
A21: 46119 | B21: British Gas | C21: 14463780 | D21: 684966762 | E21: Electricity charges | F21: Over PC | G21: 9.05
A22: 46115 | B22: Npower | C22: IN15224579 | D22: 559097889 | E22: Electricity charges | F22: Over PC | G22: 2.75
A23: 46117 | B23: Microsoft | C23: G150236958 | D23: 724594615 | E23: Subscription | F23: Over PC | G23: *
A24: 46123 | B24: Microsoft | C24: G152340831 | D24: 724594615 | E24: Subscription | F24: Over PC | G24: 1.7
A25: 46113 | B25: MC Groundcare | C25: INV-0176 | D25: 489998674 | E25: Grass Cutting/Height Barrier | F25: Over PC | G25: 599
A26: 46142 | B26: Over Community Centre | C26: 10093 | D26: 665627896 | E26: Meeting Room Hire | F26: Over PC | G26: 6
A27: 46147 | B27: Microsoft | C27: G156223454 | D27: 724594615 | E27: Subscription | F27: Over PC | G27: 8.69
A28: 46153 | B28: Microsoft | C28: GB-TI2602300590 | D28: 724594615 | E28: Subscription | F28: Over PC | G28: 1.7
A29: 46146 | B29: MC Groundcare | C29: INV-0213 | D29: 489998674 | E29: Grass Cutting | F29: Over PC | G29: 111
B30: VAT RECLAIM MADE
A31: 46142 | B31: Over Community Centre | C31: 10093 | D31: 665627896 | E31: Meeting Room Hire | F31: Over PC | G31: `
A32: 46150 | B32: British Gas | C32: 14796895 | D32: 684966762 | E32: Electricity Charges | F32: Over PC | G32: 300.54
A33: 46178 | B33: Microsoft | C33: G162424071 | D33: 724594615 | E33: Subscription | F33: Over PC | G33: 8.69
A34: 46184 | B34: Microsoft | C34: G164613973 | D34: 724594615 | E34: Subscription | F34: Over PC | G34: 1.7
A35: 46173 | B35: Over Community Centre | C35: 10124 | D35: 665627896 | E35: Meeting Room Hire | F35: Over PC | G35: 6
A36: 46160 | B36: Seagrave Inspection Services | C36: INV-2466 | D36: 980346115 | E36: Playground Inspection | F36: Over PC | G36: 64.8
A37: 46175 | B37: MC Groundcare | C37: INV-0256 | D37: 489998674 | E37: Grass Cutting | F37: Over PC | G37: 190
A38: 46175 | B38: MC Groundcare | C38: INV-0257 | D38: 489998674 | E38: Toilet Hire | F38: Over PC | G38: 74
A39: 46208 | B39: Microsoft | C39: G168705606 | D39: 724594615 | E39: Subscription | F39: Over PC | G39: 8.69
A40: 46214 | B40: Microsoft | C40: G170913412 | D40: 724594615 | E40: Subscription | F40: Over PC | G40: 1.7
A41: 46216 | B41: Atlas Tree Surgery | C41: 9880 | D41: 883442602 | E41: Remove dead tree | F41: Over PC | G41: 136
...

Sheet Green Charity
B1: Green Charity
B3: Balance as of 1st April 2025
A5: Date | B5: Expenses | D5: Total | H5: Date | I5: Income | J5: Total
A7: 45748 | B7: MC Garden Maintenance | C7: # | D7: 72 | I7: Over PC internal transfer
A8: 45778 | B8: MC Garden Maintenance | C8: # | D8: 348
A9: 45810 | B9: MC Garden Maintenance | C9: # | D9: 420
A10: 45841 | B10: MC Garden Maintenance | C10: # | D10: 240
A11: sept | B11: MC Garden Maintenance | C11: # | D11: 432
A12: oct | B12: MC Garden Maintenance | C12: # | D12: 288
A13: dec | B13: MC Garden Maintenance | C13: # | D13: 288
A14: July | B14: MC Garden Maintenance | C14: # | D14: 468
B23: Total | D23: =D3-D7-D8-D9-D10-D11-D12-D13+J7-D14-D15-D16 -> -2556
